BEGIN:VCALENDAR
VERSION:2.0
PRODID:-//wp-events-plugin.com//7.2.3.1//EN
TZID:Europe/London
X-WR-TIMEZONE:Europe/London
BEGIN:VEVENT
UID:6766@eastgatearts.com
DTSTART;TZID=Europe/London:20260503T113000
DTEND;TZID=Europe/London:20260503T133000
DTSTAMP:20260305T112549Z
URL:https://eastgatearts.com/events/you-choose-2/
SUMMARY:You Choose
DESCRIPTION:In this show – YOU CHOOSE what happens! Using the picture boo
 k as inspiration and through a series of games and challenges each show wi
 ll be unique with different characters\, locations\, costumes and much mor
 e every time!
ATTACH;FMTTYPE=image/jpeg:https://eastgatearts.com/wp-content/uploads/2026
 /03/A6-FAMILY-POSTCARD-YOU-CHOOSE-no-bleed-front-page-scaled.jpg
CATEGORIES:Family,Theatre
END:VEVENT
BEGIN:VTIMEZONE
TZID:Europe/London
X-LIC-LOCATION:Europe/London
BEGIN:DAYLIGHT
DTSTART:20260329T020000
TZOFFSETFROM:+0000
TZOFFSETTO:+0100
TZNAME:BST
END:DAYLIGHT
END:VTIMEZONE
END:VCALENDAR