BEGIN:VCALENDAR
VERSION:2.0
PRODID:-//wp-events-plugin.com//7.2.3.1//EN
TZID:Europe/London
X-WR-TIMEZONE:Europe/London
BEGIN:VEVENT
UID:6663@eastgatearts.com
DTSTART;TZID=Europe/London:20261022T193000
DTEND;TZID=Europe/London:20261022T211500
DTSTAMP:20260226T114555Z
URL:https://eastgatearts.com/events/witch-hunt/
SUMMARY:Witch Hunt
DESCRIPTION:Inspired by Shakespeare’s tragedy\, this exciting new musical
  tells the untold story of Macbeth’s three witches. Witch Hunt is a grip
 ping story of witchcraft and persecution all set to a pulsing electronic d
 ance music score with high energy vocals.
ATTACH;FMTTYPE=image/jpeg:https://eastgatearts.com/wp-content/uploads/2025
 /12/New-Witch-Hunt-scaled.jpg
CATEGORIES:Theatre
END:VEVENT
BEGIN:VTIMEZONE
TZID:Europe/London
X-LIC-LOCATION:Europe/London
BEGIN:DAYLIGHT
DTSTART:20260329T020000
TZOFFSETFROM:+0000
TZOFFSETTO:+0100
TZNAME:BST
END:DAYLIGHT
END:VTIMEZONE
END:VCALENDAR