BEGIN:VCALENDAR
VERSION:2.0
PRODID:-//wp-events-plugin.com//7.2.3.1//EN
TZID:Europe/London
X-WR-TIMEZONE:Europe/London
BEGIN:VEVENT
UID:6614@eastgatearts.com
DTSTART;TZID=Europe/London:20260130T150000
DTEND;TZID=Europe/London:20260130T160000
DTSTAMP:20251121T095832Z
URL:https://eastgatearts.com/events/wild-edinbugh/
SUMMARY:Wild Edinbugh
DESCRIPTION:Edinburgh is a magical city full of wild corners – and wild i
 nhabitants. Join nature writer Keith Broomfield as he explores the wildlif
 e of his childhood city.
ATTACH;FMTTYPE=image/jpeg:https://eastgatearts.com/wp-content/uploads/2025
 /11/Keith-Wild-Edinburgh-845-scaled.jpg
CATEGORIES:Festival,Talk,WWF
END:VEVENT
BEGIN:VTIMEZONE
TZID:Europe/London
X-LIC-LOCATION:Europe/London
BEGIN:STANDARD
DTSTART:20251026T010000
TZOFFSETFROM:+0100
TZOFFSETTO:+0000
TZNAME:GMT
END:STANDARD
END:VTIMEZONE
END:VCALENDAR