BEGIN:VCALENDAR
VERSION:2.0
PRODID:-//wp-events-plugin.com//7.2.3.1//EN
TZID:Europe/London
X-WR-TIMEZONE:Europe/London
BEGIN:VEVENT
UID:5831@eastgatearts.com
DTSTART;TZID=Europe/London:20241014T150000
DTEND;TZID=Europe/London:20241014T153000
DTSTAMP:20240902T153220Z
URL:https://eastgatearts.com/events/wander-fool-workshop/
SUMMARY:Wander Fool Workshop
DESCRIPTION:Join Nino the Clown for a 30 minute workshop after the performa
 nce to continue exploring vocabulary discovered from the show.
CATEGORIES:Ballet on Screen,Event Cinema,Family,Opera on Screen,Take
 Part,Theatre on Screen
END:VEVENT
BEGIN:VTIMEZONE
TZID:Europe/London
X-LIC-LOCATION:Europe/London
BEGIN:DAYLIGHT
DTSTART:20240331T020000
TZOFFSETFROM:+0000
TZOFFSETTO:+0100
TZNAME:BST
END:DAYLIGHT
END:VTIMEZONE
END:VCALENDAR