BEGIN:VCALENDAR
VERSION:2.0
PRODID:-//wp-events-plugin.com//7.2.3.1//EN
TZID:Europe/London
X-WR-TIMEZONE:Europe/London
BEGIN:VEVENT
UID:5355@eastgatearts.com
DTSTART;TZID=Europe/London:20240223T200000
DTEND;TZID=Europe/London:20240223T221500
DTSTAMP:20240208T164515Z
URL:https://eastgatearts.com/events/up-town-comedy/
SUMMARY:Up Town Comedy
DESCRIPTION:BBC Radio star\, TikTok celebrity and all round good guy STUART
  MITCHELL brings the best laughs to Peebles. Age: 18+
CATEGORIES:Comedy
END:VEVENT
BEGIN:VTIMEZONE
TZID:Europe/London
X-LIC-LOCATION:Europe/London
BEGIN:STANDARD
DTSTART:20231029T010000
TZOFFSETFROM:+0100
TZOFFSETTO:+0000
TZNAME:GMT
END:STANDARD
END:VTIMEZONE
END:VCALENDAR