BEGIN:VCALENDAR
VERSION:2.0
PRODID:-//wp-events-plugin.com//7.2.3.1//EN
TZID:Europe/London
X-WR-TIMEZONE:Europe/London
BEGIN:VEVENT
UID:6469@eastgatearts.com
DTSTART;TZID=Europe/London:20260419T130000
DTEND;TZID=Europe/London:20260419T143000
DTSTAMP:20260226T112203Z
URL:https://eastgatearts.com/events/turner-constable/
SUMMARY:Turner & Constable
DESCRIPTION:Two of Britain’s greatest painters\, J.M.W. Turner and John C
 onstable were also the greatest of rivals. Born within a year of each othe
 r\, both used landscape painting to reflect the changing world around them
 . Tate Britain is bringing these two greats together for a groundbreaking 
 exhibition\, in London from November 2025 to April 2026\, and Exhibition o
 n Screen once again has exclusive and privileged access to bring their ext
 raordinary art and remarkable stories to the big screen in April 2026 so t
 hat both can be enjoyed together.
ATTACH;FMTTYPE=image/jpeg:https://eastgatearts.com/wp-content/uploads/2025
 /08/Turner-Small.jpg
CATEGORIES:Art,Event Cinema
END:VEVENT
BEGIN:VTIMEZONE
TZID:Europe/London
X-LIC-LOCATION:Europe/London
BEGIN:DAYLIGHT
DTSTART:20260329T020000
TZOFFSETFROM:+0000
TZOFFSETTO:+0100
TZNAME:BST
END:DAYLIGHT
END:VTIMEZONE
END:VCALENDAR