BEGIN:VCALENDAR
VERSION:2.0
PRODID:-//wp-events-plugin.com//7.2.3.1//EN
TZID:Europe/London
X-WR-TIMEZONE:Europe/London
BEGIN:VEVENT
UID:6793@eastgatearts.com
DTSTART;TZID=Europe/London:20260520T193000
DTEND;TZID=Europe/London:20260520T210000
DTSTAMP:20260401T091517Z
URL:https://eastgatearts.com/events/town-and-country-planning-in-the-scott
 ish-borders/
SUMMARY:Town and Country Planning in the Scottish Borders
DESCRIPTION:The next Peebles Civic Society talk will be by Douglas Hope and
  is based on his recently released book Town and Country Planning in the S
 cottish Borders\, 1946-1996: From Planning Backwater to the Centre of the 
 Maelstrom.
ATTACH;FMTTYPE=image/jpeg:https://eastgatearts.com/wp-content/uploads/2026
 /01/DouglasHopePCS.jpg
CATEGORIES:Community,Talk
END:VEVENT
BEGIN:VTIMEZONE
TZID:Europe/London
X-LIC-LOCATION:Europe/London
BEGIN:DAYLIGHT
DTSTART:20260329T020000
TZOFFSETFROM:+0000
TZOFFSETTO:+0100
TZNAME:BST
END:DAYLIGHT
END:VTIMEZONE
END:VCALENDAR