BEGIN:VCALENDAR
VERSION:2.0
PRODID:-//wp-events-plugin.com//7.2.3.1//EN
TZID:Europe/London
X-WR-TIMEZONE:Europe/London
BEGIN:VEVENT
UID:6559@eastgatearts.com
DTSTART;TZID=Europe/London:20260407T130000
DTEND;TZID=Europe/London:20260407T144500
DTSTAMP:20260226T105110Z
URL:https://eastgatearts.com/events/the-wizard-of-oz-u/
SUMMARY:The Wizard of Oz (U)
DESCRIPTION:Follow the yellow brick road back to the magic of one of cinema
 ’s most beloved classics. The Wizard of Oz whisks audiences from Kansas 
 to the dazzling world of Oz\, where Dorothy\, Toto\, and newfound friends 
 — the Scarecrow\, Tin Man\, and Cowardly Lion — set out on an unforget
 table adventure to find the Wizard and discover the courage\, heart\, and 
 home they’ve been searching for.
ATTACH;FMTTYPE=image/jpeg:https://eastgatearts.com/wp-content/uploads/2025
 /11/Wizard-of-Oz-845-scaled.jpg
CATEGORIES:Classic Cinema,Film
END:VEVENT
BEGIN:VTIMEZONE
TZID:Europe/London
X-LIC-LOCATION:Europe/London
BEGIN:DAYLIGHT
DTSTART:20260329T020000
TZOFFSETFROM:+0000
TZOFFSETTO:+0100
TZNAME:BST
END:DAYLIGHT
END:VTIMEZONE
END:VCALENDAR