BEGIN:VCALENDAR
VERSION:2.0
PRODID:-//wp-events-plugin.com//7.2.3.1//EN
TZID:Europe/London
X-WR-TIMEZONE:Europe/London
BEGIN:VEVENT
UID:6600@eastgatearts.com
DTSTART;TZID=Europe/London:20260502T143000
DTEND;TZID=Europe/London:20260502T163000
DTSTAMP:20260226T113014Z
URL:https://eastgatearts.com/events/the-vicar-of-dibley-3/
SUMMARY:The Vicar of Dibley
DESCRIPTION:Tweed Theatre presents... Dibley\, a small Oxfordshire village\
 , gets its first female vicar in the 1990s. In this adaptation from the TV
 \, the riotous impact on the pompous\, lustful\, naive and frankly odd par
 ishioners creates a comic classic.
ATTACH;FMTTYPE=image/jpeg:https://eastgatearts.com/wp-content/uploads/2025
 /11/Vicar-845-scaled.jpg
CATEGORIES:Community,Theatre
END:VEVENT
BEGIN:VTIMEZONE
TZID:Europe/London
X-LIC-LOCATION:Europe/London
BEGIN:DAYLIGHT
DTSTART:20260329T020000
TZOFFSETFROM:+0000
TZOFFSETTO:+0100
TZNAME:BST
END:DAYLIGHT
END:VTIMEZONE
END:VCALENDAR