BEGIN:VCALENDAR
VERSION:2.0
PRODID:-//wp-events-plugin.com//7.2.3.1//EN
TZID:Europe/London
X-WR-TIMEZONE:Europe/London
BEGIN:VEVENT
UID:6742@eastgatearts.com
DTSTART;TZID=Europe/London:20260417T140000
DTEND;TZID=Europe/London:20260417T150000
DTSTAMP:20260226T111325Z
URL:https://eastgatearts.com/events/the-three-little-pigs/
SUMMARY:The Three Little Pigs
DESCRIPTION:Get blown away in this brand-new family musical The Three Littl
 e Pigs!  \nJoin our three pigs as they leave the family sty in search of n
 ew adventures! Will they make a pig’s ear out of it\, or will they raise
  the roof as they forge friendships with each other and those they meet al
 ong the way.  
ATTACH;FMTTYPE=image/jpeg:https://eastgatearts.com/wp-content/uploads/2026
 /02/1920x1080-The-Three-Little-Pigs.jpg
CATEGORIES:Family,Theatre
END:VEVENT
BEGIN:VTIMEZONE
TZID:Europe/London
X-LIC-LOCATION:Europe/London
BEGIN:DAYLIGHT
DTSTART:20260329T020000
TZOFFSETFROM:+0000
TZOFFSETTO:+0100
TZNAME:BST
END:DAYLIGHT
END:VTIMEZONE
END:VCALENDAR