BEGIN:VCALENDAR
VERSION:2.0
PRODID:-//wp-events-plugin.com//7.2.3.1//EN
TZID:Europe/London
X-WR-TIMEZONE:Europe/London
BEGIN:VEVENT
UID:6784@eastgatearts.com
DTSTART;TZID=Europe/London:20260527T193000
DTEND;TZID=Europe/London:20260530T220000
DTSTAMP:20260327T113729Z
URL:https://eastgatearts.com/events/the-taming-of-the-shrew/
SUMMARY:The Taming of the Shrew
DESCRIPTION:Set in Padua\, the play follows the courtship of the strong-wil
 led and outspoken Katherina\, known as Kate\, and the assertive Petruchio 
 who vows to woo her with ‘spirit’\, stating that if she rails\, he wil
 l tell her she sings as sweetly as a nightingale!
ATTACH;FMTTYPE=image/jpeg:https://eastgatearts.com/wp-content/uploads/2024
 /03/traquairhouse845x456.jpg
CATEGORIES:Community,Theatre
END:VEVENT
BEGIN:VTIMEZONE
TZID:Europe/London
X-LIC-LOCATION:Europe/London
BEGIN:DAYLIGHT
DTSTART:20260329T020000
TZOFFSETFROM:+0000
TZOFFSETTO:+0100
TZNAME:BST
END:DAYLIGHT
END:VTIMEZONE
END:VCALENDAR