BEGIN:VCALENDAR
VERSION:2.0
PRODID:-//wp-events-plugin.com//7.2.3.1//EN
TZID:Europe/London
X-WR-TIMEZONE:Europe/London
BEGIN:VEVENT
UID:6429@eastgatearts.com
DTSTART;TZID=Europe/London:20260412T180000
DTEND;TZID=Europe/London:20260412T200000
DTSTAMP:20260226T110018Z
URL:https://eastgatearts.com/events/the-sound-of-scotland-with-the-macdona
 ld-bros/
SUMMARY:The Sound of Scotland with The Macdonald Bros
DESCRIPTION:After selling out shows in 2025 – The Sound of Scotland with 
 the Macdonald Bros returns in 2026 with a stunning new production which wi
 ll take you on a musical journey celebrating Scotland’s greatest songs a
 nd artists. The Sound of Scotland celebrates everything wonderful about S
 cotland and has been described as a Scottish Music Extravaganza - so get y
 our tartan scarves at the ready! 
ATTACH;FMTTYPE=image/jpeg:https://eastgatearts.com/wp-content/uploads/2025
 /07/Sound-Of-Scotland-1000x690-1.png
CATEGORIES:Music
END:VEVENT
BEGIN:VTIMEZONE
TZID:Europe/London
X-LIC-LOCATION:Europe/London
BEGIN:DAYLIGHT
DTSTART:20260329T020000
TZOFFSETFROM:+0000
TZOFFSETTO:+0100
TZNAME:BST
END:DAYLIGHT
END:VTIMEZONE
END:VCALENDAR