BEGIN:VCALENDAR
VERSION:2.0
PRODID:-//wp-events-plugin.com//7.2.3.1//EN
TZID:Europe/London
X-WR-TIMEZONE:Europe/London
BEGIN:VEVENT
UID:6077@eastgatearts.com
DTSTART;TZID=Europe/London:20250709T130000
DTEND;TZID=Europe/London:20250709T150000
DTSTAMP:20250228T144948Z
URL:https://eastgatearts.com/events/the-salt-path-3/
SUMMARY:The Salt Path
DESCRIPTION:Based on the bestselling memoir by Raynor Winn\, The Salt Path 
 is an inspiring and deeply moving tale of resilience\, hope\, and the heal
 ing power of nature. When Raynor and her husband Moth lose everything and 
 face an uncertain future\, they embark on a journey to walk the 630-mile S
 outh West Coast Path in the UK.
ATTACH;FMTTYPE=image/jpeg:https://eastgatearts.com/wp-content/uploads/2025
 /01/The-Salt-Path-scaled.jpg
CATEGORIES:Film
END:VEVENT
BEGIN:VTIMEZONE
TZID:Europe/London
X-LIC-LOCATION:Europe/London
BEGIN:DAYLIGHT
DTSTART:20250330T020000
TZOFFSETFROM:+0000
TZOFFSETTO:+0100
TZNAME:BST
END:DAYLIGHT
END:VTIMEZONE
END:VCALENDAR