BEGIN:VCALENDAR
VERSION:2.0
PRODID:-//wp-events-plugin.com//7.2.3.1//EN
TZID:Europe/London
X-WR-TIMEZONE:Europe/London
BEGIN:VEVENT
UID:6756@eastgatearts.com
DTSTART;TZID=Europe/London:20260427T120000
DTEND;TZID=Europe/London:20260427T140000
DTSTAMP:20260305T090602Z
URL:https://eastgatearts.com/events/the-magic-faraway-tree-2/
SUMMARY:The Magic Faraway Tree
DESCRIPTION:Soon after the Thompson family’s arrival in the countryside\,
  the three children – Joe\, Beth\, and Fran – discover a magical tree 
 and its extraordinary and eccentric residents\, including Moonface\, Silky
 \, Dame Washalot\, and Saucepan Man. 
ATTACH;FMTTYPE=image/jpeg:https://eastgatearts.com/wp-content/uploads/2026
 /03/Magic-Faraway-Tree-scaled.webp
CATEGORIES:Film
END:VEVENT
BEGIN:VTIMEZONE
TZID:Europe/London
X-LIC-LOCATION:Europe/London
BEGIN:DAYLIGHT
DTSTART:20260329T020000
TZOFFSETFROM:+0000
TZOFFSETTO:+0100
TZNAME:BST
END:DAYLIGHT
END:VTIMEZONE
END:VCALENDAR