BEGIN:VCALENDAR
VERSION:2.0
PRODID:-//wp-events-plugin.com//7.2.3.1//EN
TZID:Europe/London
X-WR-TIMEZONE:Europe/London
BEGIN:VEVENT
UID:6780@eastgatearts.com
DTSTART;TZID=Europe/London:20260512T193000
DTEND;TZID=Europe/London:20260512T213000
DTSTAMP:20260408T101523Z
URL:https://eastgatearts.com/events/the-light-house/
SUMMARY:The Light House
DESCRIPTION:Love is a complicated business. It gets even more complicated w
 hen the person you love doesn’t want to be alive. Tender\, funny and def
 iantly hopeful\, The Light House is a real-life story of falling in love a
 nd staying in love\, even when the lights go out and you’re lost in the 
 dark. It’s a love letter to life.
ATTACH;FMTTYPE=image/jpeg:https://eastgatearts.com/wp-content/uploads/2026
 /03/Lead-image-landscape-1-scaled.jpeg
CATEGORIES:Festival,Inspiring Life,Theatre
END:VEVENT
BEGIN:VTIMEZONE
TZID:Europe/London
X-LIC-LOCATION:Europe/London
BEGIN:DAYLIGHT
DTSTART:20260329T020000
TZOFFSETFROM:+0000
TZOFFSETTO:+0100
TZNAME:BST
END:DAYLIGHT
END:VTIMEZONE
END:VCALENDAR