BEGIN:VCALENDAR
VERSION:2.0
PRODID:-//wp-events-plugin.com//7.2.3.1//EN
TZID:Europe/London
X-WR-TIMEZONE:Europe/London
BEGIN:VEVENT
UID:6020@eastgatearts.com
DTSTART;TZID=Europe/London:20250726T193000
DTEND;TZID=Europe/London:20250726T211500
DTSTAMP:20250118T124132Z
URL:https://eastgatearts.com/events/the-jersey-notes/
SUMMARY:The Jersey Notes
DESCRIPTION:The Jersey Notes treat you to an evening of nostalgia as they 
 magically recreate the style and sounds of one of the biggest acts of the 
 twentieth century. These seasoned performers capture the trademark vocal v
 irtuosity\, tight harmonies and crisp choreography that made ‘The Four S
 easons’ one of the greatest vocal groups of all time.
ATTACH;FMTTYPE=image/jpeg:https://eastgatearts.com/wp-content/uploads/2025
 /01/Screenshot-2025-01-18-123642.png
CATEGORIES:Music
END:VEVENT
BEGIN:VTIMEZONE
TZID:Europe/London
X-LIC-LOCATION:Europe/London
BEGIN:DAYLIGHT
DTSTART:20250330T020000
TZOFFSETFROM:+0000
TZOFFSETTO:+0100
TZNAME:BST
END:DAYLIGHT
END:VTIMEZONE
END:VCALENDAR