BEGIN:VCALENDAR
VERSION:2.0
PRODID:-//wp-events-plugin.com//7.2.3.1//EN
TZID:Europe/London
X-WR-TIMEZONE:Europe/London
BEGIN:VEVENT
UID:6073@eastgatearts.com
DTSTART;TZID=Europe/London:20250524T143000
DTEND;TZID=Europe/London:20250524T163000
DTSTAMP:20250228T102007Z
URL:https://eastgatearts.com/events/thank-you-for-dance/
SUMMARY:Thank You For Dance
DESCRIPTION:Fiona Henderson School of Dance is delighted to present its 202
 5 Junior School Show Thank You For Dance. 
ATTACH;FMTTYPE=image/jpeg:https://eastgatearts.com/wp-content/uploads/2025
 /02/Z1A6797-1-1.jpg
CATEGORIES:Dance,Family
END:VEVENT
BEGIN:VTIMEZONE
TZID:Europe/London
X-LIC-LOCATION:Europe/London
BEGIN:DAYLIGHT
DTSTART:20250330T020000
TZOFFSETFROM:+0000
TZOFFSETTO:+0100
TZNAME:BST
END:DAYLIGHT
END:VTIMEZONE
END:VCALENDAR