BEGIN:VCALENDAR
VERSION:2.0
PRODID:-//wp-events-plugin.com//7.2.3.1//EN
TZID:Europe/London
X-WR-TIMEZONE:Europe/London
BEGIN:VEVENT
UID:5344@eastgatearts.com
DTSTART;TZID=Europe/London:20240222T191500
DTEND;TZID=Europe/London:20240222T211500
DTSTAMP:20240201T140006Z
URL:https://eastgatearts.com/events/teenbandnight/
SUMMARY:Teen Event - Band Night
DESCRIPTION:Band night featuring 8 Days and Radio Silence\, exclusively for
  students in S1 to S6.
CATEGORIES:Music
END:VEVENT
BEGIN:VTIMEZONE
TZID:Europe/London
X-LIC-LOCATION:Europe/London
BEGIN:STANDARD
DTSTART:20231029T010000
TZOFFSETFROM:+0100
TZOFFSETTO:+0000
TZNAME:GMT
END:STANDARD
END:VTIMEZONE
END:VCALENDAR