BEGIN:VCALENDAR
VERSION:2.0
PRODID:-//wp-events-plugin.com//7.2.3.1//EN
TZID:Europe/London
X-WR-TIMEZONE:Europe/London
BEGIN:VEVENT
UID:6662@eastgatearts.com
DTSTART;TZID=Europe/London:20260218T193000
DTEND;TZID=Europe/London:20260218T213000
DTSTAMP:20251217T095342Z
URL:https://eastgatearts.com/events/tae-sup-wi-a-fifer-feb-2026/
SUMMARY:Tae Sup wi’ a Fifer - Feb 2026
DESCRIPTION:The much-loved travelling roadshow returns - hosted and curated
  by acclaimed Fife singer-songwriter and author James Yorkston. This uniqu
 e evening brings together an extraordinary mix of music\, poetry and story
 telling\, featuring: Andy Irvine\, Katherine Priddy & Len Pennie. An unfor
 gettable night of words\, music and heart.
ATTACH;FMTTYPE=image/jpeg:https://eastgatearts.com/wp-content/uploads/2025
 /12/Tae-Sup-Feb-Small.jpg
CATEGORIES:Music
END:VEVENT
BEGIN:VTIMEZONE
TZID:Europe/London
X-LIC-LOCATION:Europe/London
BEGIN:STANDARD
DTSTART:20251026T010000
TZOFFSETFROM:+0100
TZOFFSETTO:+0000
TZNAME:GMT
END:STANDARD
END:VTIMEZONE
END:VCALENDAR