BEGIN:VCALENDAR
VERSION:2.0
PRODID:-//wp-events-plugin.com//7.2.3.1//EN
TZID:Europe/London
X-WR-TIMEZONE:Europe/London
BEGIN:VEVENT
UID:5838@eastgatearts.com
DTSTART;TZID=Europe/London:20241011T150000
DTEND;TZID=Europe/London:20241011T153000
DTSTAMP:20240914T111819Z
URL:https://eastgatearts.com/events/stories-just-in-case-3/
SUMMARY:Stories Just in Case
DESCRIPTION:Three comic cautionary tales for the whole family told from wit
 hin a suitcase\, by Clydebuilt Puppet Theatre. 
CATEGORIES:Family
END:VEVENT
BEGIN:VTIMEZONE
TZID:Europe/London
X-LIC-LOCATION:Europe/London
BEGIN:DAYLIGHT
DTSTART:20240331T020000
TZOFFSETFROM:+0000
TZOFFSETTO:+0100
TZNAME:BST
END:DAYLIGHT
END:VTIMEZONE
END:VCALENDAR