BEGIN:VCALENDAR
VERSION:2.0
PRODID:-//wp-events-plugin.com//7.2.3.1//EN
TZID:Europe/London
X-WR-TIMEZONE:Europe/London
BEGIN:VEVENT
UID:6650@eastgatearts.com
DTSTART;TZID=Europe/London:20260527T193000
DTEND;TZID=Europe/London:20260527T213000
DTSTAMP:20260226T113758Z
URL:https://eastgatearts.com/events/stand-deliver-the-lee-jeans-sit-in-2/
SUMMARY:Stand & Deliver: The Lee Jeans Sit-In
DESCRIPTION:A National Theatre of Scotland and Tron Theatre Company co-prod
 uction. Faced with the threat of their factory closing\, and with 240 jobs
  on the line\, there’s no way the women of the Lee Jeans factory are goi
 ng down without a fight.
ATTACH;FMTTYPE=image/jpeg:https://eastgatearts.com/wp-content/uploads/2025
 /12/LeeJeans_Holding-Image_APPROVED-Small-scaled.jpg
CATEGORIES:Theatre
END:VEVENT
BEGIN:VTIMEZONE
TZID:Europe/London
X-LIC-LOCATION:Europe/London
BEGIN:DAYLIGHT
DTSTART:20260329T020000
TZOFFSETFROM:+0000
TZOFFSETTO:+0100
TZNAME:BST
END:DAYLIGHT
END:VTIMEZONE
END:VCALENDAR