BEGIN:VCALENDAR
VERSION:2.0
PRODID:-//wp-events-plugin.com//7.2.3.1//EN
TZID:Europe/London
X-WR-TIMEZONE:Europe/London
BEGIN:VEVENT
UID:6554@eastgatearts.com
DTSTART;TZID=Europe/London:20260120T130000
DTEND;TZID=Europe/London:20260120T150000
DTSTAMP:20251120T093655Z
URL:https://eastgatearts.com/events/some-like-it-hot-u/
SUMMARY:Some Like It Hot (U)
DESCRIPTION:Widely considered one of the greatest comedies ever made\, Some
  Like It Hot is a sparkling\, quick-witted classic starring Marilyn Monroe
 \, Tony Curtis\, and Jack Lemmon at the top of their game.
ATTACH;FMTTYPE=image/jpeg:https://eastgatearts.com/wp-content/uploads/2025
 /11/Some-Like-It-Hot-854-scaled.jpg
CATEGORIES:Classic Cinema,Film
END:VEVENT
BEGIN:VTIMEZONE
TZID:Europe/London
X-LIC-LOCATION:Europe/London
BEGIN:STANDARD
DTSTART:20251026T010000
TZOFFSETFROM:+0100
TZOFFSETTO:+0000
TZNAME:GMT
END:STANDARD
END:VTIMEZONE
END:VCALENDAR