BEGIN:VCALENDAR
VERSION:2.0
PRODID:-//wp-events-plugin.com//7.2.3.1//EN
TZID:Europe/London
X-WR-TIMEZONE:Europe/London
BEGIN:VEVENT
UID:6743@eastgatearts.com
DTSTART;TZID=Europe/London:20260609T193000
DTEND;TZID=Europe/London:20260609T213000
DTSTAMP:20260226T113849Z
URL:https://eastgatearts.com/events/sian/
SUMMARY:Sian
DESCRIPTION:Sian are a Scottish Gaelic folk band whose acclaimed sophomore 
 album araon won Album of the Year at the 2025 Scots Trad Music Awards.
ATTACH;FMTTYPE=image/jpeg:https://eastgatearts.com/wp-content/uploads/2026
 /02/Sian-resize-scaled.jpg
CATEGORIES:Music
END:VEVENT
BEGIN:VTIMEZONE
TZID:Europe/London
X-LIC-LOCATION:Europe/London
BEGIN:DAYLIGHT
DTSTART:20260329T020000
TZOFFSETFROM:+0000
TZOFFSETTO:+0100
TZNAME:BST
END:DAYLIGHT
END:VTIMEZONE
END:VCALENDAR