BEGIN:VCALENDAR
VERSION:2.0
PRODID:-//wp-events-plugin.com//7.2.3.1//EN
TZID:Europe/London
X-WR-TIMEZONE:Europe/London
BEGIN:VEVENT
UID:6130@eastgatearts.com
DTSTART;TZID=Europe/London:20250604T193000
DTEND;TZID=Europe/London:20250607T220000
DTSTAMP:20250513T100249Z
URL:https://eastgatearts.com/events/shakespeare-at-traquair-macbeth-2/
SUMMARY:Shakespeare at Traquair - Macbeth
DESCRIPTION:Shakespeare at Traquair enter their 30th year with the magnific
 ent production of Macbeth. A tale of love\, moral dilemmas and vaulting am
 bition. The play follows Macbeth\, the Thane of Glamis\, who receives a pr
 ophecy that he will become the King of Scotland.
ATTACH;FMTTYPE=image/jpeg:https://eastgatearts.com/wp-content/uploads/2025
 /04/2025-Macbeth-Esme-Babineaux-v1-cropped.png
CATEGORIES:External Event,Theatre
END:VEVENT
BEGIN:VTIMEZONE
TZID:Europe/London
X-LIC-LOCATION:Europe/London
BEGIN:DAYLIGHT
DTSTART:20250330T020000
TZOFFSETFROM:+0000
TZOFFSETTO:+0100
TZNAME:BST
END:DAYLIGHT
END:VTIMEZONE
END:VCALENDAR