BEGIN:VCALENDAR
VERSION:2.0
PRODID:-//wp-events-plugin.com//7.2.3.1//EN
TZID:Europe/London
X-WR-TIMEZONE:Europe/London
BEGIN:VEVENT
UID:6658@eastgatearts.com
DTSTART;TZID=Europe/London:20260116T105000
DTEND;TZID=Europe/London:20260116T115000
DTSTAMP:20251212T102944Z
URL:https://eastgatearts.com/events/self-led-jazz-dance-friday/
SUMMARY:Self Led Jazz Dance (Friday)
DESCRIPTION:A relaxed\, self-guided Jazz Dance class for adults who want to
  keep moving\, practising and enjoying jazz dance at their own pace. Desig
 ned for those who already attend Dance with Sara Boles classes.
ATTACH;FMTTYPE=image/jpeg:https://eastgatearts.com/wp-content/uploads/2025
 /03/5192fd08-c279-4302-b0fe-61b319920e81.jpg
CATEGORIES:Dance with Sara Boles,Take Part
END:VEVENT
BEGIN:VTIMEZONE
TZID:Europe/London
X-LIC-LOCATION:Europe/London
BEGIN:STANDARD
DTSTART:20251026T010000
TZOFFSETFROM:+0100
TZOFFSETTO:+0000
TZNAME:GMT
END:STANDARD
END:VTIMEZONE
END:VCALENDAR