BEGIN:VCALENDAR
VERSION:2.0
PRODID:-//wp-events-plugin.com//7.2.3.1//EN
TZID:Europe/London
X-WR-TIMEZONE:Europe/London
BEGIN:VEVENT
UID:6652@eastgatearts.com
DTSTART;TZID=Europe/London:20260205T150000
DTEND;TZID=Europe/London:20260205T163000
DTSTAMP:20260112T155806Z
URL:https://eastgatearts.com/events/see-me-workshop-time-to-talk-day/
SUMMARY:See Me Workshop - Time to Talk Day
DESCRIPTION:Join us at this relaxed and informal writing workshop hosted by
  See Me for Time to Talk Day.
ATTACH;FMTTYPE=image/jpeg:https://eastgatearts.com/wp-content/uploads/2025
 /12/28641-scaled.jpg
CATEGORIES:Inspiring Life,Take Part,Workshops
END:VEVENT
BEGIN:VTIMEZONE
TZID:Europe/London
X-LIC-LOCATION:Europe/London
BEGIN:STANDARD
DTSTART:20251026T010000
TZOFFSETFROM:+0100
TZOFFSETTO:+0000
TZNAME:GMT
END:STANDARD
END:VTIMEZONE
END:VCALENDAR