BEGIN:VCALENDAR
VERSION:2.0
PRODID:-//wp-events-plugin.com//7.2.3.1//EN
TZID:Europe/London
X-WR-TIMEZONE:Europe/London
BEGIN:VEVENT
UID:6051@eastgatearts.com
DTSTART;TZID=Europe/London:20250406T140000
DTEND;TZID=Europe/London:20250406T173000
DTSTAMP:20250313T141113Z
URL:https://eastgatearts.com/events/royal-opera-turandot/
SUMMARY:Royal Opera: Turandot
DESCRIPTION:Puccini’s captivating opera of a cold-hearted princess and he
 r mysterious suitor. Featuring the ever-popular ‘Nessun dorma’\, this 
 opera of love and revenge is brought to life in a dazzling production.
CATEGORIES:Easter Holidays,Film,Music,Opera,Opera on Screen
END:VEVENT
BEGIN:VTIMEZONE
TZID:Europe/London
X-LIC-LOCATION:Europe/London
BEGIN:DAYLIGHT
DTSTART:20250330T020000
TZOFFSETFROM:+0000
TZOFFSETTO:+0100
TZNAME:BST
END:DAYLIGHT
END:VTIMEZONE
END:VCALENDAR