BEGIN:VCALENDAR
VERSION:2.0
PRODID:-//wp-events-plugin.com//7.2.3.1//EN
TZID:Europe/London
X-WR-TIMEZONE:Europe/London
BEGIN:VEVENT
UID:5772@eastgatearts.com
DTSTART;TZID=Europe/London:20241024T100000
DTEND;TZID=Europe/London:20241114T104500
DTSTAMP:20240831T123141Z
URL:https://eastgatearts.com/events/rhythm-kids-7/
SUMMARY:Rhythm Kids
DESCRIPTION:Shake\, rattle\, and roll with Frances Taylor in this lively cl
 ass full of fun and musical games with percussion instruments.
ATTACH;FMTTYPE=image/jpeg:https://eastgatearts.com/wp-content/uploads/2024
 /06/Rhythm-Kids-bells-845.jpg
CATEGORIES:Take Part
END:VEVENT
BEGIN:VTIMEZONE
TZID:Europe/London
X-LIC-LOCATION:Europe/London
BEGIN:DAYLIGHT
DTSTART:20240331T020000
TZOFFSETFROM:+0000
TZOFFSETTO:+0100
TZNAME:BST
END:DAYLIGHT
BEGIN:STANDARD
DTSTART:20241027T010000
TZOFFSETFROM:+0100
TZOFFSETTO:+0000
TZNAME:GMT
END:STANDARD
END:VTIMEZONE
END:VCALENDAR