BEGIN:VCALENDAR
VERSION:2.0
PRODID:-//wp-events-plugin.com//7.2.3.1//EN
TZID:Europe/London
X-WR-TIMEZONE:Europe/London
BEGIN:VEVENT
UID:6776@eastgatearts.com
DTSTART;TZID=Europe/London:20260605T193000
DTEND;TZID=Europe/London:20260605T213000
DTSTAMP:20260331T130953Z
URL:https://eastgatearts.com/events/revolution-days/
SUMMARY:Revolution Days
DESCRIPTION:Scottish Aid Worker\, Samira\, fuelled by the belief she can ma
 ke a difference\, is confronted by the reality of war\, aid work and her o
 wn disillusionment\, during the Arab Revolutions.
ATTACH;FMTTYPE=image/jpeg:https://eastgatearts.com/wp-content/uploads/2026
 /03/Image-for-Website-Revolution-Days-800x600-1.png
CATEGORIES:Theatre
END:VEVENT
BEGIN:VTIMEZONE
TZID:Europe/London
X-LIC-LOCATION:Europe/London
BEGIN:DAYLIGHT
DTSTART:20260329T020000
TZOFFSETFROM:+0000
TZOFFSETTO:+0100
TZNAME:BST
END:DAYLIGHT
END:VTIMEZONE
END:VCALENDAR