BEGIN:VCALENDAR
VERSION:2.0
PRODID:-//wp-events-plugin.com//7.2.3.1//EN
TZID:Europe/London
X-WR-TIMEZONE:Europe/London
BEGIN:VEVENT
UID:6764@eastgatearts.com
DTSTART;TZID=Europe/London:20260413T120000
DTEND;TZID=Europe/London:20260413T140000
DTSTAMP:20260305T092232Z
URL:https://eastgatearts.com/events/reminders-of-him-2/
SUMMARY:Reminders of Him
DESCRIPTION:When Diem's custodial grandparents adamantly refuse Kenna's att
 empts to see her daughter\, Kenna discovers unexpected compassion\, and th
 en something truer and deeper\, with former NFL player and local bar owner
  Ledger. 
ATTACH;FMTTYPE=image/jpeg:https://eastgatearts.com/wp-content/uploads/2026
 /03/Reminders-of-Him-2-scaled.webp
CATEGORIES:Film
END:VEVENT
BEGIN:VTIMEZONE
TZID:Europe/London
X-LIC-LOCATION:Europe/London
BEGIN:DAYLIGHT
DTSTART:20260329T020000
TZOFFSETFROM:+0000
TZOFFSETTO:+0100
TZNAME:BST
END:DAYLIGHT
END:VTIMEZONE
END:VCALENDAR