BEGIN:VCALENDAR
VERSION:2.0
PRODID:-//wp-events-plugin.com//7.2.3.1//EN
TZID:Europe/London
X-WR-TIMEZONE:Europe/London
BEGIN:VEVENT
UID:6765@eastgatearts.com
DTSTART;TZID=Europe/London:20260509T193000
DTEND;TZID=Europe/London:20260509T213000
DTSTAMP:20260305T100935Z
URL:https://eastgatearts.com/events/rant-fiddles/
SUMMARY:RANT Fiddles
DESCRIPTION: With 3 acclaimed albums under their belt - RANT remain at the 
 forefront of the Scottish fiddle scene\, creating a sound which is both sp
 acious and lush\, yet retaining all the earthy bite and spark of a traditi
 onal Scottish fiddle player.
ATTACH;FMTTYPE=image/jpeg:https://eastgatearts.com/wp-content/uploads/2026
 /03/DSF3164_fullres-Medium.jpeg
CATEGORIES:Music
END:VEVENT
BEGIN:VTIMEZONE
TZID:Europe/London
X-LIC-LOCATION:Europe/London
BEGIN:DAYLIGHT
DTSTART:20260329T020000
TZOFFSETFROM:+0000
TZOFFSETTO:+0100
TZNAME:BST
END:DAYLIGHT
END:VTIMEZONE
END:VCALENDAR