BEGIN:VCALENDAR
VERSION:2.0
PRODID:-//wp-events-plugin.com//7.2.3.1//EN
TZID:Europe/London
X-WR-TIMEZONE:Europe/London
BEGIN:VEVENT
UID:5832@eastgatearts.com
DTSTART;TZID=Europe/London:20241017T153000
DTEND;TZID=Europe/London:20241017T163000
DTSTAMP:20240902T153851Z
URL:https://eastgatearts.com/events/puppet-workshop/
SUMMARY:Puppet Workshop
DESCRIPTION:Join the expert puppeteers of Clydebuilt Puppets after the show
  for a workshop making your own puppet.
CATEGORIES:Family,Take Part
END:VEVENT
BEGIN:VTIMEZONE
TZID:Europe/London
X-LIC-LOCATION:Europe/London
BEGIN:DAYLIGHT
DTSTART:20240331T020000
TZOFFSETFROM:+0000
TZOFFSETTO:+0100
TZNAME:BST
END:DAYLIGHT
END:VTIMEZONE
END:VCALENDAR