BEGIN:VCALENDAR
VERSION:2.0
PRODID:-//wp-events-plugin.com//7.2.3.1//EN
TZID:Europe/London
X-WR-TIMEZONE:Europe/London
BEGIN:VEVENT
UID:6432@eastgatearts.com
DTSTART;TZID=Europe/London:20251015T110000
DTEND;TZID=Europe/London:20251102T170000
DTSTAMP:20250804T102835Z
URL:https://eastgatearts.com/events/punctum-a-photographic-artwork-exhibit
 ion/
SUMMARY:Punctum - a photographic artwork exhibition
DESCRIPTION:Punctum\, a photographic artwork exhibition\, by Boyd Wild.
ATTACH;FMTTYPE=image/jpeg:https://eastgatearts.com/wp-content/uploads/2025
 /07/Punctum-Exhibition-Poster.jpg
CATEGORIES:Art
END:VEVENT
BEGIN:VTIMEZONE
TZID:Europe/London
X-LIC-LOCATION:Europe/London
BEGIN:DAYLIGHT
DTSTART:20250330T020000
TZOFFSETFROM:+0000
TZOFFSETTO:+0100
TZNAME:BST
END:DAYLIGHT
BEGIN:STANDARD
DTSTART:20251026T010000
TZOFFSETFROM:+0100
TZOFFSETTO:+0000
TZNAME:GMT
END:STANDARD
END:VTIMEZONE
END:VCALENDAR