BEGIN:VCALENDAR
VERSION:2.0
PRODID:-//wp-events-plugin.com//7.2.3.1//EN
TZID:Europe/London
X-WR-TIMEZONE:Europe/London
BEGIN:VEVENT
UID:6762@eastgatearts.com
DTSTART;TZID=Europe/London:20260422T193000
DTEND;TZID=Europe/London:20260422T213000
DTSTAMP:20260305T091627Z
URL:https://eastgatearts.com/events/project-hail-mary-3/
SUMMARY:Project Hail Mary
DESCRIPTION:Science teacher Ryland Grace wakes up on a spaceship with no re
 collection of how he got there. As his memory returns\, he begins to uncov
 er his mission: solve the riddle of the mysterious substance causing the s
 un to die out. 
ATTACH;FMTTYPE=image/jpeg:https://eastgatearts.com/wp-content/uploads/2026
 /03/Project-Hail-Mary.webp
CATEGORIES:Film
END:VEVENT
BEGIN:VTIMEZONE
TZID:Europe/London
X-LIC-LOCATION:Europe/London
BEGIN:DAYLIGHT
DTSTART:20260329T020000
TZOFFSETFROM:+0000
TZOFFSETTO:+0100
TZNAME:BST
END:DAYLIGHT
END:VTIMEZONE
END:VCALENDAR