BEGIN:VCALENDAR
VERSION:2.0
PRODID:-//wp-events-plugin.com//7.2.3.1//EN
TZID:Europe/London
X-WR-TIMEZONE:Europe/London
BEGIN:VEVENT
UID:5263@eastgatearts.com
DTSTART;TZID=Europe/London:20240313T130000
DTEND;TZID=Europe/London:20240313T152100
DTSTAMP:20240109T144422Z
URL:https://eastgatearts.com/events/poor-things-matinee/
SUMMARY:Poor Things (Matinee)
DESCRIPTION:This black comedy fantasy by the director of The Favourite\, Yo
 rgos Lanthimos tells the incredible tale of the fantastical evolution of B
 ella Baxter\, a young woman brought back to life by the brilliant\,unortho
 dox scientest Dr Godwin Baxter. Stars Emma Stone\, Mark Ruffalo and Willem
  Dafoe.  Also showing at 7.30pm Please Note Cert 18.
CATEGORIES:Film
END:VEVENT
BEGIN:VTIMEZONE
TZID:Europe/London
X-LIC-LOCATION:Europe/London
BEGIN:STANDARD
DTSTART:20231029T010000
TZOFFSETFROM:+0100
TZOFFSETTO:+0000
TZNAME:GMT
END:STANDARD
END:VTIMEZONE
END:VCALENDAR