BEGIN:VCALENDAR
VERSION:2.0
PRODID:-//wp-events-plugin.com//7.2.3.1//EN
TZID:Europe/London
X-WR-TIMEZONE:Europe/London
BEGIN:VEVENT
UID:6768@eastgatearts.com
DTSTART;TZID=Europe/London:20260523T193000
DTEND;TZID=Europe/London:20260523T213000
DTSTAMP:20260305T114017Z
URL:https://eastgatearts.com/events/peebles-orchestra-golden-jubilee-conce
 rt/
SUMMARY:Peebles Orchestra: Golden Jubilee Concert
DESCRIPTION:This year’s spring concert comes with a golden lining\, bring
 ing together an internationally acclaimed soloist who started out in the P
 eebles Orchestra\, a new commission from a local composer\, our first-ever
  symphony\, and one of the orchestra’s favourite overtures.
ATTACH;FMTTYPE=image/jpeg:https://eastgatearts.com/wp-content/uploads/2024
 /03/Peebles-Orchestra-845-x-456.jpg
CATEGORIES:Community,Music
END:VEVENT
BEGIN:VTIMEZONE
TZID:Europe/London
X-LIC-LOCATION:Europe/London
BEGIN:DAYLIGHT
DTSTART:20260329T020000
TZOFFSETFROM:+0000
TZOFFSETTO:+0100
TZNAME:BST
END:DAYLIGHT
END:VTIMEZONE
END:VCALENDAR