BEGIN:VCALENDAR
VERSION:2.0
PRODID:-//wp-events-plugin.com//7.2.3.1//EN
TZID:Europe/London
X-WR-TIMEZONE:Europe/London
BEGIN:VEVENT
UID:6769@eastgatearts.com
DTSTART;TZID=Europe/London:20260524T190000
DTEND;TZID=Europe/London:20260524T210000
DTSTAMP:20260305T114824Z
URL:https://eastgatearts.com/events/peebles-concert-band-spring-concert/
SUMMARY:Peebles Concert Band: Spring Concert
DESCRIPTION:Come and hear Peebles Concert Band’s fabulous new programme o
 f music led by music director John Bryce!
ATTACH;FMTTYPE=image/jpeg:https://eastgatearts.com/wp-content/uploads/2024
 /02/Jazz-2-845.jpg
CATEGORIES:Community,Music
END:VEVENT
BEGIN:VTIMEZONE
TZID:Europe/London
X-LIC-LOCATION:Europe/London
BEGIN:DAYLIGHT
DTSTART:20260329T020000
TZOFFSETFROM:+0000
TZOFFSETTO:+0100
TZNAME:BST
END:DAYLIGHT
END:VTIMEZONE
END:VCALENDAR