BEGIN:VCALENDAR
VERSION:2.0
PRODID:-//wp-events-plugin.com//7.2.3.1//EN
TZID:Europe/London
X-WR-TIMEZONE:Europe/London
BEGIN:VEVENT
UID:6665@eastgatearts.com
DTSTART;TZID=Europe/London:20260423T193000
DTEND;TZID=Europe/London:20260423T221500
DTSTAMP:20260226T141819Z
URL:https://eastgatearts.com/events/othello-2/
SUMMARY:Othello
DESCRIPTION:Shakespeare’s OTHELLO rages to life like never before in a 
 ‘compelling’ new production starring David Harewood OBE\, Toby Jones O
 BE\, Caitlin FitzGerald\, Vinette Robinson and Luke Treadaway.
ATTACH;FMTTYPE=image/jpeg:https://eastgatearts.com/wp-content/uploads/2025
 /12/Othello-16x9-main-image.jpg
CATEGORIES:Event Cinema,Theatre,Theatre on Screen
END:VEVENT
BEGIN:VTIMEZONE
TZID:Europe/London
X-LIC-LOCATION:Europe/London
BEGIN:DAYLIGHT
DTSTART:20260329T020000
TZOFFSETFROM:+0000
TZOFFSETTO:+0100
TZNAME:BST
END:DAYLIGHT
END:VTIMEZONE
END:VCALENDAR