BEGIN:VCALENDAR
VERSION:2.0
PRODID:-//wp-events-plugin.com//7.2.3.1//EN
TZID:Europe/London
X-WR-TIMEZONE:Europe/London
BEGIN:VEVENT
UID:6493@eastgatearts.com
DTSTART;TZID=Europe/London:20251008T193000
DTEND;TZID=Europe/London:20251008T210000
DTSTAMP:20250819T101036Z
URL:https://eastgatearts.com/events/on-falling-15-2/
SUMMARY:On Falling (15)
DESCRIPTION:A migrant warehouse picker in Scotland fights crushing solitude
  under algorithmic pressure in this haunting social realist drama.
ATTACH;FMTTYPE=image/jpeg:https://eastgatearts.com/wp-content/uploads/2025
 /08/On-Falling-scaled.jpg
CATEGORIES:Film
END:VEVENT
BEGIN:VTIMEZONE
TZID:Europe/London
X-LIC-LOCATION:Europe/London
BEGIN:DAYLIGHT
DTSTART:20250330T020000
TZOFFSETFROM:+0000
TZOFFSETTO:+0100
TZNAME:BST
END:DAYLIGHT
END:VTIMEZONE
END:VCALENDAR