BEGIN:VCALENDAR
VERSION:2.0
PRODID:-//wp-events-plugin.com//7.2.3.1//EN
TZID:Europe/London
X-WR-TIMEZONE:Europe/London
BEGIN:VEVENT
UID:5267@eastgatearts.com
DTSTART;TZID=Europe/London:20240120T120000
DTEND;TZID=Europe/London:20240120T150000
DTSTAMP:20231213T175839Z
URL:https://eastgatearts.com/events/nettle-fibre-workshop-meal/
SUMMARY:Nettle Fibre (Workshop & Meal)
DESCRIPTION:Discover the capacity of nettles – by weaving and spinning th
 em into a textile creation. Then enjoy a nettle meal by a professional che
 f.  
CATEGORIES:Take Part
END:VEVENT
BEGIN:VTIMEZONE
TZID:Europe/London
X-LIC-LOCATION:Europe/London
BEGIN:STANDARD
DTSTART:20231029T010000
TZOFFSETFROM:+0100
TZOFFSETTO:+0000
TZNAME:GMT
END:STANDARD
END:VTIMEZONE
END:VCALENDAR