BEGIN:VCALENDAR
VERSION:2.0
PRODID:-//wp-events-plugin.com//7.2.3.1//EN
TZID:Europe/London
X-WR-TIMEZONE:Europe/London
BEGIN:VEVENT
UID:5354@eastgatearts.com
DTSTART;TZID=Europe/London:20240305T190000
DTEND;TZID=Europe/London:20240305T220000
DTSTAMP:20240207T124858Z
URL:https://eastgatearts.com/events/my-fair-lady/
SUMMARY:My Fair Lady
DESCRIPTION:Treats\, cocktails\, Audrey Hepburn\, beautiful dresses and hat
 s...join the Friends for a special celebration of this classic film.
CATEGORIES:Film
END:VEVENT
BEGIN:VTIMEZONE
TZID:Europe/London
X-LIC-LOCATION:Europe/London
BEGIN:STANDARD
DTSTART:20231029T010000
TZOFFSETFROM:+0100
TZOFFSETTO:+0000
TZNAME:GMT
END:STANDARD
END:VTIMEZONE
END:VCALENDAR