BEGIN:VCALENDAR
VERSION:2.0
PRODID:-//wp-events-plugin.com//7.2.3.1//EN
TZID:Europe/London
X-WR-TIMEZONE:Europe/London
BEGIN:VEVENT
UID:6050@eastgatearts.com
DTSTART;TZID=Europe/London:20250615T130000
DTEND;TZID=Europe/London:20250615T143000
DTSTAMP:20250124T160147Z
URL:https://eastgatearts.com/events/michelangelo-love-death/
SUMMARY:Michelangelo: Love & Death
DESCRIPTION:The spectacular sculptures and paintings of Michelangelo seem s
 o familiar to us\, but what do we really know about this Renaissance giant
 ? Michelangelo’s genius is evident in everything he touched. Beautiful a
 nd diverse works such as the towering statue of David\, the moving Pietà 
 in the Papal Basilica of St. Peter and his tour-de-force\, the Sistine Cha
 pel ceiling\, still leave us breathless today.\n\nThrough expert commentar
 y\, stunning visuals and Michelangelo’s own words\, this film takes a fr
 esh look at a master artist whose life and genius are celebrated in every 
 mark he made.
ATTACH;FMTTYPE=image/jpeg:https://eastgatearts.com/wp-content/uploads/2025
 /01/Michaelangelo-e1737734926403.jpg
CATEGORIES:Art,Event Cinema,Film
END:VEVENT
BEGIN:VTIMEZONE
TZID:Europe/London
X-LIC-LOCATION:Europe/London
BEGIN:DAYLIGHT
DTSTART:20250330T020000
TZOFFSETFROM:+0000
TZOFFSETTO:+0100
TZNAME:BST
END:DAYLIGHT
END:VTIMEZONE
END:VCALENDAR