BEGIN:VCALENDAR
VERSION:2.0
PRODID:-//wp-events-plugin.com//7.2.3.1//EN
TZID:Europe/London
X-WR-TIMEZONE:Europe/London
BEGIN:VEVENT
UID:6620@eastgatearts.com
DTSTART;TZID=Europe/London:20260131T193000
DTEND;TZID=Europe/London:20260131T210000
DTSTAMP:20251121T103908Z
URL:https://eastgatearts.com/events/meet-the-macleans/
SUMMARY:Meet The Macleans
DESCRIPTION:Not having set foot in a rowing boat prior to 2019\, the Maclea
 n brothers went on to row across the Atlantic that same year\, breaking mu
 ltiple world records. In an even bigger challenge\, the brothers recently 
 captured hearts around the world when\, after 139 days at sea\, they compl
 eted the fastest non-stop\, unsupported\, human-powered crossing of the en
 tire Pacific Ocean.
ATTACH;FMTTYPE=image/jpeg:https://eastgatearts.com/wp-content/uploads/2025
 /11/Meet-The-Macleans-845-scaled.jpg
CATEGORIES:Festival,Talk,WWF
END:VEVENT
BEGIN:VTIMEZONE
TZID:Europe/London
X-LIC-LOCATION:Europe/London
BEGIN:STANDARD
DTSTART:20251026T010000
TZOFFSETFROM:+0100
TZOFFSETTO:+0000
TZNAME:GMT
END:STANDARD
END:VTIMEZONE
END:VCALENDAR