BEGIN:VCALENDAR
VERSION:2.0
PRODID:-//wp-events-plugin.com//7.2.3.1//EN
TZID:Europe/London
X-WR-TIMEZONE:Europe/London
BEGIN:VEVENT
UID:5716@eastgatearts.com
DTSTART;TZID=Europe/London:20240925T193000
DTEND;TZID=Europe/London:20240925T213000
DTSTAMP:20240902T172442Z
URL:https://eastgatearts.com/events/matthew-bournes-edward-scissorhands/
SUMMARY:Matthew Bourne's Edward Scissorhands
DESCRIPTION:Matthew Bourne's dance version of Tim Burton's classic tells th
 e enchanting story of an incomplete boy left alone in a strange new world.
END:VEVENT
BEGIN:VTIMEZONE
TZID:Europe/London
X-LIC-LOCATION:Europe/London
BEGIN:DAYLIGHT
DTSTART:20240331T020000
TZOFFSETFROM:+0000
TZOFFSETTO:+0100
TZNAME:BST
END:DAYLIGHT
END:VTIMEZONE
END:VCALENDAR