BEGIN:VCALENDAR
VERSION:2.0
PRODID:-//wp-events-plugin.com//7.2.3.1//EN
TZID:Europe/London
X-WR-TIMEZONE:Europe/London
BEGIN:VEVENT
UID:5840@eastgatearts.com
DTSTART;TZID=Europe/London:20241026T130000
DTEND;TZID=Europe/London:20241026T160000
DTSTAMP:20240914T113808Z
URL:https://eastgatearts.com/events/made-in-the-borders-networking/
SUMMARY:Made in the Borders - Networking
DESCRIPTION:Network with this collective of professional theatre makers and
  creatives - for support and to help build capacity.
ATTACH;FMTTYPE=image/jpeg:https://eastgatearts.com/wp-content/uploads/2024
 /09/madeinborders-845.jpg
CATEGORIES:Talk
END:VEVENT
BEGIN:VTIMEZONE
TZID:Europe/London
X-LIC-LOCATION:Europe/London
BEGIN:DAYLIGHT
DTSTART:20240331T020000
TZOFFSETFROM:+0000
TZOFFSETTO:+0100
TZNAME:BST
END:DAYLIGHT
END:VTIMEZONE
END:VCALENDAR