BEGIN:VCALENDAR
VERSION:2.0
PRODID:-//wp-events-plugin.com//7.2.3.1//EN
TZID:Europe/London
X-WR-TIMEZONE:Europe/London
BEGIN:VEVENT
UID:6093@eastgatearts.com
DTSTART;TZID=Europe/London:20250702T130000
DTEND;TZID=Europe/London:20250702T150000
DTSTAMP:20250305T155048Z
URL:https://eastgatearts.com/events/lilo-stitch-2/
SUMMARY:Lilo & Stitch
DESCRIPTION:The wildly funny and touching story of a lonely Hawaiian girl a
 nd the fugitive alien who helps to mend her broken family.
ATTACH;FMTTYPE=image/jpeg:https://eastgatearts.com/wp-content/uploads/2025
 /03/Lilo-Stitch-1.jpg
CATEGORIES:Family,Film
END:VEVENT
BEGIN:VTIMEZONE
TZID:Europe/London
X-LIC-LOCATION:Europe/London
BEGIN:DAYLIGHT
DTSTART:20250330T020000
TZOFFSETFROM:+0000
TZOFFSETTO:+0100
TZNAME:BST
END:DAYLIGHT
END:VTIMEZONE
END:VCALENDAR