BEGIN:VCALENDAR
VERSION:2.0
PRODID:-//wp-events-plugin.com//7.2.3.1//EN
TZID:Europe/London
X-WR-TIMEZONE:Europe/London
BEGIN:VEVENT
UID:5843@eastgatearts.com
DTSTART;TZID=Europe/London:20250107T193000
DTEND;TZID=Europe/London:20250107T213000
DTSTAMP:20241005T162456Z
URL:https://eastgatearts.com/events/legends-of-american-country-2/
SUMMARY:Legends of American Country
DESCRIPTION:Three fantastic singers\, a live band\, authentic stage set a
 nd state of the art production transport you to Nashville and back in one 
 night.
ATTACH;FMTTYPE=image/jpeg:https://eastgatearts.com/wp-content/uploads/2024
 /10/legends-845.jpg
CATEGORIES:Music
END:VEVENT
BEGIN:VTIMEZONE
TZID:Europe/London
X-LIC-LOCATION:Europe/London
BEGIN:STANDARD
DTSTART:20241027T010000
TZOFFSETFROM:+0100
TZOFFSETTO:+0000
TZNAME:GMT
END:STANDARD
END:VTIMEZONE
END:VCALENDAR