BEGIN:VCALENDAR
VERSION:2.0
PRODID:-//wp-events-plugin.com//7.2.3.1//EN
TZID:Europe/London
X-WR-TIMEZONE:Europe/London
BEGIN:VEVENT
UID:5343@eastgatearts.com
DTSTART;TZID=Europe/London:20240224T200000
DTEND;TZID=Europe/London:20240224T220000
DTSTAMP:20240111T154849Z
URL:https://eastgatearts.com/events/led-zurrection/
SUMMARY:Led Zurrection
DESCRIPTION:Unleash the power of rock with Led Zurrection! With a mix of ic
 onic Led Zeppelin hits and a touch of electrifying original music - experi
 ence the raw energy and anthemic vocals that define the rock era. 
ATTACH;FMTTYPE=image/jpeg:https://eastgatearts.com/wp-content/uploads/2024
 /01/Elecric-Guitar-Led-Zurrection845.jpg
CATEGORIES:Music
END:VEVENT
BEGIN:VTIMEZONE
TZID:Europe/London
X-LIC-LOCATION:Europe/London
BEGIN:STANDARD
DTSTART:20231029T010000
TZOFFSETFROM:+0100
TZOFFSETTO:+0000
TZNAME:GMT
END:STANDARD
END:VTIMEZONE
END:VCALENDAR