BEGIN:VCALENDAR
VERSION:2.0
PRODID:-//wp-events-plugin.com//7.2.3.1//EN
TZID:Europe/London
X-WR-TIMEZONE:Europe/London
BEGIN:VEVENT
UID:6770@eastgatearts.com
DTSTART;TZID=Europe/London:20260606T193000
DTEND;TZID=Europe/London:20260606T213000
DTSTAMP:20260305T115824Z
URL:https://eastgatearts.com/events/led-zurrection-2/
SUMMARY:Led Zurrection
DESCRIPTION:Unleash the power of rock with Led Zurrection! Ready to rock yo
 ur world?
ATTACH;FMTTYPE=image/jpeg:https://eastgatearts.com/wp-content/uploads/2024
 /01/Elecric-Guitar-Led-Zurrection845.jpg
CATEGORIES:Music
END:VEVENT
BEGIN:VTIMEZONE
TZID:Europe/London
X-LIC-LOCATION:Europe/London
BEGIN:DAYLIGHT
DTSTART:20260329T020000
TZOFFSETFROM:+0000
TZOFFSETTO:+0100
TZNAME:BST
END:DAYLIGHT
END:VTIMEZONE
END:VCALENDAR