BEGIN:VCALENDAR
VERSION:2.0
PRODID:-//wp-events-plugin.com//7.2.3.1//EN
TZID:Europe/London
X-WR-TIMEZONE:Europe/London
BEGIN:VEVENT
UID:5348@eastgatearts.com
DTSTART;TZID=Europe/London:20240902T173000
DTEND;TZID=Europe/London:20240902T193000
DTSTAMP:20240817T130243Z
URL:https://eastgatearts.com/events/lady-boys-of-bangkok/
SUMMARY:Lady Boys of Bangkok
DESCRIPTION:Grab your friends\,  warm up your vocal chords and get your da
 ncing shoes on...its time to celebrate the 25th anniversary of The Lady Bo
 ys.
ATTACH;FMTTYPE=image/jpeg:https://eastgatearts.com/wp-content/uploads/2024
 /01/ladyboys845.jpg
CATEGORIES:Music
END:VEVENT
BEGIN:VTIMEZONE
TZID:Europe/London
X-LIC-LOCATION:Europe/London
BEGIN:DAYLIGHT
DTSTART:20240331T020000
TZOFFSETFROM:+0000
TZOFFSETTO:+0100
TZNAME:BST
END:DAYLIGHT
END:VTIMEZONE
END:VCALENDAR